BEGIN:VCALENDAR
VERSION:2.0
PRODID:-//Medtron EN - ECPv6.11.2.1//NONSGML v1.0//EN
CALSCALE:GREGORIAN
METHOD:PUBLISH
X-ORIGINAL-URL:https://medtron-msls.zeitraum.dev/en
X-WR-CALDESC:Events for Medtron EN
REFRESH-INTERVAL;VALUE=DURATION:PT1H
X-Robots-Tag:noindex
X-PUBLISHED-TTL:PT1H
BEGIN:VTIMEZONE
TZID:Europe/Helsinki
BEGIN:DAYLIGHT
TZOFFSETFROM:+0200
TZOFFSETTO:+0300
TZNAME:EEST
DTSTART:20240331T010000
END:DAYLIGHT
BEGIN:STANDARD
TZOFFSETFROM:+0300
TZOFFSETTO:+0200
TZNAME:EET
DTSTART:20241027T010000
END:STANDARD
BEGIN:DAYLIGHT
TZOFFSETFROM:+0200
TZOFFSETTO:+0300
TZNAME:EEST
DTSTART:20250330T010000
END:DAYLIGHT
BEGIN:STANDARD
TZOFFSETFROM:+0300
TZOFFSETTO:+0200
TZNAME:EET
DTSTART:20251026T010000
END:STANDARD
END:VTIMEZONE
BEGIN:VEVENT
DTSTART;VALUE=DATE:20250110
DTEND;VALUE=DATE:20250112
DTSTAMP:20260421T080249
CREATED:20241202T134022Z
LAST-MODIFIED:20250107T145703Z
UID:16687-1736467200-1736639999@medtron-msls.zeitraum.dev
SUMMARY:Angiologie Interdisziplinär_
DESCRIPTION:Let’s meet at Angiologie interdisziplinär in Weimar! \nDie 32. Gemeinsame Arbeitstagung Angiologie interdisziplinär findet vom 10. bis 11. Januar 2025 in Weimar statt.\nAuch wir von der MEDTRON AG werden mit einem Stand vor Ort sein und Sie rund um unsere Produkte beraten. \nTreffen Sie uns und lernen Sie unsere Kontrastmittelinjektoren und unser Verbrauchsmaterial kennen.\nWir freuen uns auf den Austausch mit Ihnen! \nHier finden Sie uns vor Ort: Standnummer 14
URL:https://medtron-msls.zeitraum.dev/en/event/angiologie-interdisziplinaer__/
LOCATION:Leonardo Hotel Weimar\, Belvedere Alee 25\, Weimar\, 99425
ATTACH;FMTTYPE=image/webp:https://medtron-msls.zeitraum.dev/en/wp-content/uploads/sites/2/2024/12/angiologie-interdisziplinaer-2025.webp
END:VEVENT
BEGIN:VEVENT
DTSTART;VALUE=DATE:20241213
DTEND;VALUE=DATE:20241215
DTSTAMP:20260421T080249
CREATED:20240904T122001Z
LAST-MODIFIED:20240904T122534Z
UID:16318-1734048000-1734220799@medtron-msls.zeitraum.dev
SUMMARY:Lebkuchenkongress__
DESCRIPTION:Let’s meet at Lebkuchenkongress in Nürnberg! \nDer 53. Lebkuchenkongress für MTR und MFA in der Radiologie\, Nuklearmedizin und Strahlentherapie wird\nAuch wir von der MEDTRON AG werden mit einem Stand vor Ort sein und Sie rund um unsere Produkte beraten. \nTreffen Sie uns und lernen Sie unsere Kontrastmittelinjektoren und unser Verbrauchsmaterial kennen.\nWir freuen uns auf den Austausch mit Ihnen! \nHier finden Sie uns vor Ort: wird noch bekannt gegeben
URL:https://medtron-msls.zeitraum.dev/en/event/lebkuchenkongress__/
LOCATION:Leonardo Royal Hotel\, Leonardo Royal Hotel\, Bahnhofspl. 3\,\, Nürnberg\, 90443\, Deutschland
END:VEVENT
BEGIN:VEVENT
DTSTART;VALUE=DATE:20241201
DTEND;VALUE=DATE:20241206
DTSTAMP:20260421T080249
CREATED:20240515T074949Z
LAST-MODIFIED:20241104T104129Z
UID:15464-1733011200-1733443199@medtron-msls.zeitraum.dev
SUMMARY:RSNA__
DESCRIPTION:Let’s meet at RSNA in Chicago! \nDie Radiological Society of North America (RSNA) ist eine gemeinnützige Organisation\, die 31 radiologische Fachgebiete aus 145 Ländern auf der ganzen Welt vertritt. Die Veranstaltung bietet qualitativ hochwertige Bildungsressourcen an\, darunter Fortbildungspunkte für die Aufrechterhaltung der ärztlichen Zulassung\, veranstalten die weltweit größte Radiologiekonferenz und geben fünf führende\, von Experten begutachtete Fachzeitschriften heraus: Radiologie\, RadioGraphics\, Radiologie: Artificial Intelligence\, Radiology: Cardiothoracic Imaging und Radiology: Imaging Cancer. Auch wir von der MEDTRON AG werden mit einem Stand vor Ort sein und Sie rund um unsere Produkte beraten. \nTreffen Sie uns und lernen Sie unsere Kontrastmittelinjektoren und unser Verbrauchsmaterial kennen.\nWir freuen uns auf den Austausch mit Ihnen! \nHier finden Sie uns vor Ort: McCormick Place\, South Hall\, Booth #3740
URL:https://medtron-msls.zeitraum.dev/en/event/rsna/
LOCATION:Leonardo Royal Hotel\, Leonardo Royal Hotel\, Bahnhofspl. 3\,\, Nürnberg\, 90443\, Deutschland
END:VEVENT
BEGIN:VEVENT
DTSTART;VALUE=DATE:20241122
DTEND;VALUE=DATE:20241124
DTSTAMP:20260421T080249
CREATED:20241105T060041Z
LAST-MODIFIED:20241105T123742Z
UID:16549-1732233600-1732406399@medtron-msls.zeitraum.dev
SUMMARY:MSK-MRT Workshop__
DESCRIPTION:Let’s meet at MSK-MRT Workshop in Freising! \nnach den sehr erfolgreichen Kardio CT und Kardio MRT Workshops am Klinikum Freising\, folgt nun der 1. MSK – MRT Workshop (Schulter\, Ellenbogen und Sprunggelenk) mit der MRT Spezialistin und Fachbuchautorin Dorina Petersen\, zu dem das Klinikum Freising herzlich einlädt. \nAls Sponsor sind wir bei dem Event mit dabei und freuen uns auf den Austausch! \n 
URL:https://medtron-msls.zeitraum.dev/en/event/msk-mrt-workshop_/
LOCATION:Klinikum Freising\, Alois-Steinecker-Str. 18\, Freising\, 85354\, Germany
ATTACH;FMTTYPE=image/webp:https://medtron-msls.zeitraum.dev/en/wp-content/uploads/sites/2/2024/11/MSK-MRT-Workshop.webp
END:VEVENT
BEGIN:VEVENT
DTSTART;VALUE=DATE:20241122
DTEND;VALUE=DATE:20241124
DTSTAMP:20260421T080249
CREATED:20240515T074104Z
LAST-MODIFIED:20241115T123732Z
UID:15459-1732233600-1732406399@medtron-msls.zeitraum.dev
SUMMARY:Radiologie Update__
DESCRIPTION:Let’s meet at Radiologie Update in Berlin! \nDas 2. Radiologie Update wird in diesem Jahr in Berlin stattfinden.\nAuch wir von der MEDTRON AG werden mit einem Stand vor Ort sein und Sie rund um unsere Produkte beraten. \nTreffen Sie uns und lernen Sie unsere Kontrastmittelinjektoren und Verbrauchsmaterialien kennen.\nWir freuen uns auf den Austausch mit Ihnen! \nHier finden Sie uns vor Ort: 4
URL:https://medtron-msls.zeitraum.dev/en/event/radiologie-update/
LOCATION:Tagungswerk Berlin\, Lindenstraße 85\, Berlin\, 10969
END:VEVENT
BEGIN:VEVENT
DTSTART;VALUE=DATE:20241114
DTEND;VALUE=DATE:20241118
DTSTAMP:20260421T080249
CREATED:20240904T093300Z
LAST-MODIFIED:20241115T123805Z
UID:16312-1731542400-1731887999@medtron-msls.zeitraum.dev
SUMMARY:CCR__
DESCRIPTION:Let’s meet at CCR in Shanghai! \nTreffen Sie unseren Vertriebspartner Growth Medical vor Ort und lernen Sie unsere Kontrastmittelinjektoren und unser Verbrauchsmaterial kennen.\nWir freuen uns auf den Austausch mit Ihnen! \nHier finden Sie uns vor Ort: A08
URL:https://medtron-msls.zeitraum.dev/en/event/ccr/
LOCATION:Shanghai\, China
ATTACH;FMTTYPE=image/webp:https://medtron-msls.zeitraum.dev/en/wp-content/uploads/sites/2/2024/09/ccr-2024.webp
END:VEVENT
BEGIN:VEVENT
DTSTART;VALUE=DATE:20241114
DTEND;VALUE=DATE:20241116
DTSTAMP:20260421T080249
CREATED:20240515T073128Z
LAST-MODIFIED:20241105T115049Z
UID:15455-1731542400-1731715199@medtron-msls.zeitraum.dev
SUMMARY:Radiologiekongress Ruhr_
DESCRIPTION:Let’s meet at Radiologiekongress Ruhr in Dortmund! \nDer Radiologiekongress Ruhr ist der zweitgrößte Kongress der medizinischen Bildgebung in Deutschland und findet im November 2024 zum 16. Mal in Dortmund statt. Radiologen\, MTRA und Industrievertreter aus aller Welt kommen beim Kongress zusammen\, um sich über neueste Entwicklungen und Trends in der Radiologie und Nuklearmedizin auszutauschen und fortzubilden.\nAuch wir von der MEDTRON AG werden mit einem Stand vor Ort sein und Sie rund um unsere Produkte beraten. \nTreffen Sie uns und lernen Sie unsere Kontrastmittelinjektoren und Verbrauchsmaterialien kennen.\nWir freuen uns auf den Austausch mit Ihnen! \nHier finden Sie uns vor Ort: Stand 3.15
URL:https://medtron-msls.zeitraum.dev/en/event/radiologiekongress-ruhr/
LOCATION:Messe Dortmund\, Rheinlanddamm 200\, Dortmund\, 44139\, Deutschland
END:VEVENT
BEGIN:VEVENT
DTSTART;VALUE=DATE:20241011
DTEND;VALUE=DATE:20241013
DTSTAMP:20260421T080249
CREATED:20240515T071252Z
LAST-MODIFIED:20240515T071757Z
UID:15447-1728604800-1728777599@medtron-msls.zeitraum.dev
SUMMARY:FISI__
DESCRIPTION:Let’s meet at FISI-Symposium in Frankfurt! \nDas 25. FISI-Symposium in Frankfurt wird in diesem Jahr unter dem Motto “MRT advanced” stattfinden.\nAuch wir von der MEDTRON AG werden mit einem Expertenteam Ort sein und Sie rund um unsere Produkte beraten. \nTreffen Sie uns und lernen Sie unsere Kontrastmittelinjektoren und Verbrauchsmaterialien kennen.\nWir freuen uns auf den Austausch mit Ihnen! \nHier finden Sie uns vor Ort: wird noch bekannt gegeben
URL:https://medtron-msls.zeitraum.dev/en/event/fisi-symposium/
LOCATION:Universitätsklinikum Frankfurt\, Theodor-Stern-Kai 7\, Frankfurt\, 60590
END:VEVENT
BEGIN:VEVENT
DTSTART;VALUE=DATE:20240913
DTEND;VALUE=DATE:20240915
DTSTAMP:20260421T080249
CREATED:20240516T105544Z
LAST-MODIFIED:20240516T105609Z
UID:15473-1726185600-1726358399@medtron-msls.zeitraum.dev
SUMMARY:Petersberger Symposium_
DESCRIPTION:Let’s meet at Petersberger Symposium in Königswinter! \nDas 15. Petersberger Symposium findet dieses Jahr unter dem Motto “Radiologie meets MSK” statt\, so steht die Orthopädie im Fokus\, mit besonderem Augenmerk auf die unmittelbaren therapeutischen Konsequenzen der MSK-Diagnostik.\nAuch wir von der MEDTRON AG werden mit einem Expertenteam vor Ort sein und Sie rund um unsere Produkte beraten. \nTreffen Sie uns und lernen Sie unsere Kontrastmittelinjektoren und unser Verbrauchsmaterial kennen.\nWir freuen uns auf den Austausch mit Ihnen! \nHier finden Sie uns vor Ort: wird noch bekannt gegeben
URL:https://medtron-msls.zeitraum.dev/en/event/petersberger-symposium/
LOCATION:Steigenberger Hotel am Petersberg\, Königswinter\, 53639
ATTACH;FMTTYPE=image/png:https://medtron-msls.zeitraum.dev/en/wp-content/uploads/sites/2/2024/05/petersberger-symposium-2024.png
END:VEVENT
BEGIN:VEVENT
DTSTART;VALUE=DATE:20240911
DTEND;VALUE=DATE:20240915
DTSTAMP:20260421T080249
CREATED:20240516T104618Z
LAST-MODIFIED:20240902T102538Z
UID:15468-1726012800-1726358399@medtron-msls.zeitraum.dev
SUMMARY:GPR Jahrestagung__
DESCRIPTION:Let’s meet at GPR Jahrestagung in Erlangen! \nDie 61. Jahrestagung der Gesellschaft für Pädiatrische Radiologie e.V. (GPR) findet in diesem Jahr unter dem Motto “Kinderradiologie 2024 – so bunt wie das Leben” statt.\nAuch wir von der MEDTRON AG werden mit einem Expertenteam vor Ort sein und Sie rund um unsere Produkte beraten. \nTreffen Sie uns und lernen Sie unsere Kontrastmittelinjektoren und unser Verbrauchsmaterial kennen.\nWir freuen uns auf den Austausch mit Ihnen! \nHier finden Sie uns vor Ort: Stand A08
URL:https://medtron-msls.zeitraum.dev/en/event/gpr/
LOCATION:Universitätsklinikum Erlangen\, Maximilianspl. 2\, Erlangen\, 91054\, Deutschland
ATTACH;FMTTYPE=image/png:https://medtron-msls.zeitraum.dev/en/wp-content/uploads/sites/2/2024/05/gpr-jahrestagung-2024.png
END:VEVENT
END:VCALENDAR